BEGIN:VCALENDAR
VERSION:2.0
PRODID:-//Arairlor - ECPv4.8.2//NONSGML v1.0//EN
CALSCALE:GREGORIAN
METHOD:PUBLISH
X-WR-CALNAME:Arairlor
X-ORIGINAL-URL:https://arairlor.asso.fr
X-WR-CALDESC:Évènements pour Arairlor
BEGIN:VEVENT
DTSTART;TZID=Europe/Paris:20210319T143000
DTEND;TZID=Europe/Paris:20210319T170000
DTSTAMP:20260419T140647
CREATED:20210301T075824Z
LAST-MODIFIED:20210301T075824Z
UID:1879-1616164200-1616173200@arairlor.asso.fr
SUMMARY:Réunion Bureau
DESCRIPTION:
URL:https://arairlor.asso.fr/evenement/reunion-bureau/
LOCATION:ARAIRLOR – MESSEIN
END:VEVENT
END:VCALENDAR