BEGIN:VCALENDAR
VERSION:2.0
PRODID:-//Arairlor - ECPv4.8.2//NONSGML v1.0//EN
CALSCALE:GREGORIAN
METHOD:PUBLISH
X-WR-CALNAME:Arairlor
X-ORIGINAL-URL:https://arairlor.asso.fr
X-WR-CALDESC:Évènements pour Arairlor
BEGIN:VEVENT
DTSTART;TZID=Europe/Paris:20250325T140000
DTEND;TZID=Europe/Paris:20250325T170000
DTSTAMP:20260419T205558
CREATED:20230524T083952Z
LAST-MODIFIED:20250306T124713Z
UID:2162-1742911200-1742922000@arairlor.asso.fr
SUMMARY:Conseil d'Administration et Assemblée Générale
DESCRIPTION:
URL:https://arairlor.asso.fr/evenement/assemblee-generale-3/
LOCATION:ARAIRLOR – MESSEIN
END:VEVENT
END:VCALENDAR