BEGIN:VCALENDAR
VERSION:2.0
PRODID:-//Arairlor - ECPv4.8.2//NONSGML v1.0//EN
CALSCALE:GREGORIAN
METHOD:PUBLISH
X-WR-CALNAME:Arairlor
X-ORIGINAL-URL:https://arairlor.asso.fr
X-WR-CALDESC:Évènements pour Arairlor
BEGIN:VEVENT
DTSTART;TZID=Europe/Paris:20220325T143000
DTEND;TZID=Europe/Paris:20220325T170000
DTSTAMP:20260422T113859
CREATED:20220117T074814Z
LAST-MODIFIED:20220117T074821Z
UID:2040-1648218600-1648227600@arairlor.asso.fr
SUMMARY:Réunion du  Bureau
DESCRIPTION:
URL:https://arairlor.asso.fr/evenement/reunion-du-bureau/
LOCATION:ARAIRLOR – MESSEIN
END:VEVENT
END:VCALENDAR