BEGIN:VCALENDAR
VERSION:2.0
PRODID:-//Arairlor - ECPv4.8.2//NONSGML v1.0//EN
CALSCALE:GREGORIAN
METHOD:PUBLISH
X-WR-CALNAME:Arairlor
X-ORIGINAL-URL:https://arairlor.asso.fr
X-WR-CALDESC:Évènements pour Arairlor
BEGIN:VEVENT
DTSTART;TZID=Europe/Paris:20220114T143000
DTEND;TZID=Europe/Paris:20220114T170000
DTSTAMP:20260420T104825
CREATED:20220110T072843Z
LAST-MODIFIED:20220110T072843Z
UID:2030-1642170600-1642179600@arairlor.asso.fr
SUMMARY:Réunion de bureau
DESCRIPTION:
URL:https://arairlor.asso.fr/evenement/reunion-de-bureau/
LOCATION:ARAIRLOR – MESSEIN
END:VEVENT
END:VCALENDAR